BEGIN:VCALENDAR
VERSION:2.0
METHOD:PUBLISH
BEGIN:VEVENT
UID:WILD_APRICOT_EVENT_583386_SESSION_1
DTSTART:20130120T230000Z
DTEND:20130123T230000Z
SUMMARY:6ÈME CONGRÈS FRANCO-ISRAÉLIEN DE RADIOLOGIE
LOCATION:Tel Aviv
DESCRIPTION:http://slr.lu/event-583386\n\nVoir Signalétique_novembre_2012\n
DTSTAMP:20170621T011353Z
END:VEVENT
END:VCALENDAR
