BEGIN:VCALENDAR
VERSION:2.0
METHOD:PUBLISH
BEGIN:VEVENT
UID:WILD_APRICOT_EVENT_583378_SESSION_1
DTSTART:20130113T230000Z
DTEND:20130114T230000Z
SUMMARY:4ÈME ATELIER D’ÉCHOGRAPHIE DE CONTRASTE EN PATHOLOGIE HÉPATIQUE
LOCATION:Paris
DESCRIPTION:http://slr.lu/event-583378\n\nVoir Signalétique_novembre_2012\n
DTSTAMP:20170621T011404Z
END:VEVENT
END:VCALENDAR
