BEGIN:VCALENDAR
VERSION:2.0
METHOD:PUBLISH
BEGIN:VEVENT
UID:WILD_APRICOT_EVENT_583371_SESSION_1
DTSTART:20130123T230000Z
DTEND:20130125T230000Z
SUMMARY:IMAGERIE MÉDICALE DE LA FEMME : ATELIERS PRATIQUES D’IRM EN GYNÉCOLOGIE – NIVEAU 1
LOCATION:Nancy
DESCRIPTION:http://slr.lu/event-583371\n\nVoir Signalétique_novembre_2012\n
DTSTAMP:20170621T011341Z
END:VEVENT
END:VCALENDAR
