BEGIN:VCALENDAR
VERSION:2.0
METHOD:PUBLISH
BEGIN:VEVENT
UID:WILD_APRICOT_EVENT_583370_SESSION_1
DTSTART:20121130T230000Z
DTEND:20121201T230000Z
SUMMARY:DIPLOME INTER-UNIVERSITAIRE D’IMAGERIE NÉPHRO-UROLOGIQUE
LOCATION:Paris/Lille/Strasbourg/Nancy/Marseille/Montpellier
DESCRIPTION:http://slr.lu/event-583370\n\nVoir Signalétique_novembre_2012\n
DTSTAMP:20170621T011427Z
END:VEVENT
END:VCALENDAR
