BEGIN:VCALENDAR
VERSION:2.0
METHOD:PUBLISH
BEGIN:VEVENT
UID:WILD_APRICOT_EVENT_583362_SESSION_1
DTSTART:20121213T230000Z
DTEND:20121215T230000Z
SUMMARY:« LE RACHIS ET LA MOELLE CAS PAR CAS »
LOCATION:Paris
DESCRIPTION:http://slr.lu/event-583362\n\nVoir Signalétique_novembre_2012\n
DTSTAMP:20170621T011416Z
END:VEVENT
END:VCALENDAR
