BEGIN:VCALENDAR
VERSION:2.0
METHOD:PUBLISH
BEGIN:VEVENT
UID:WILD_APRICOT_EVENT_583360_SESSION_1
DTSTART:20130321T230000Z
DTEND:20130322T230000Z
SUMMARY:Macrobiosie mammaire
LOCATION:Insitut Curie\, Paris
DESCRIPTION:http://slr.lu/event-583360\n\nVoir Signalétique_novembre_2012\n
DTSTAMP:20170621T011146Z
END:VEVENT
END:VCALENDAR
