BEGIN:VCALENDAR
VERSION:2.0
METHOD:PUBLISH
BEGIN:VEVENT
UID:WILD_APRICOT_EVENT_583353_SESSION_1
DTSTART:20121130T230000Z
DTEND:20121201T230000Z
SUMMARY:DIPLÔME INTER-UNIVERSITAIRE D’IMAGERIE MAMMAIRE 2012-2013 : RÉGION PARIS-ÎLE-DE-FRANCE
LOCATION:Paris
DESCRIPTION:http://slr.lu/event-583353\n\n               Date limite des inscriptions : 10 décembre 2012\n\nvoir Signale_tique_novembre_2012.pdf\n         
DTSTAMP:20170621T011442Z
END:VEVENT
END:VCALENDAR
