BEGIN:VCALENDAR
VERSION:2.0
METHOD:PUBLISH
BEGIN:VEVENT
UID:WILD_APRICOT_EVENT_582445_SESSION_1
DTSTART:20121117T073000Z
DTEND:20121117T120000Z
SUMMARY:19e Journée de Gastroentérologie
LOCATION:Hotel NOVOTEL Kirchberg
DESCRIPTION:http://slr.lu/event-582445\n\n\n                 info@alformec.lu        \n                           \n                  8h30 : Accueil        \n                  9h00- 9h45 : Risques et complications de la PEG        (Prof. Dormann - Köln) en langue allemande                  9h45 – 10h30 : Sécurité d’emploi de la prise des IPP au long cours        (Prof. Bretagne - Rennes)                  10h30 – 11h : Pause café        \n                  11h-11h45 : Découvertes fortuites désagréables lors des imageries du foie et du pancréas        (Prof. Laurent - Nancy)                  11h45 – 12h30 : Risques et complications de la chirurgie anti- reflux        (Dr. Decker - Luxembourg)                  13h : Repas         
DTSTAMP:20170621T011608Z
END:VEVENT
END:VCALENDAR
