BEGIN:VCALENDAR
VERSION:2.0
METHOD:PUBLISH
BEGIN:VEVENT
UID:WILD_APRICOT_EVENT_581754_SESSION_1
DTSTART:20121121T140000Z
DTEND:20121121T180000Z
SUMMARY:IMAGERIE EN PÉDIATRIE: INDICATIONS CLINIQUES ET RADIOPROTECTION
LOCATION:Grand Auditoire VILLA LOUVIGNY
DESCRIPTION:http://slr.lu/event-581754\n\nI N V I T A T I O N\n Mercredi 21 novembre 2012\n de 15h00 à 19h00\n Grand Auditoire\n VILLA LOUVIGNY\n Allée Marconi\n Ministère de la Santé\n LUXEMBOURG\n \n Invitation PDF.pdf\n \n IMAGERIE PÉDIATRIQUE ET\n RADIOPROTECTION\n \n L’imagerie Pédiatrique a pu bénéficier\n des progrès récents en imagerie médicale:\n en particulier\, la scanographie CT qui\n garde aujourd’hui une place importante.\n La technologie multicoupes a révolutionné\n la qualité des images en réduisant les\n temps d’acquisition à quelques secondes\,\n supprimant presque totalement\n les problèmes d’artéfacts de mouvement\n chez l’enfant.\n Toutefois\, la sensibilité des organes aux\n rayonnements ionisants est plus élevée\n chez l’enfant que chez l’adulte.\n Leur espérance de vie étant supérieure\,\n le risque de cancer radio-induit est plus\n élevé.\n Une étude épidémiologique récente sur\n une cohorte pédiatrique exposée à des\n examens CT a pu quantifier ce risque\n pour les leucémies et les cancers du cerveau.\n L’objectif de ce symposium est de sensibiliser\n les acteurs aux sujets suivants:\n · Optimisation de la dose des examens\n radiologiques\, notamment en CT\,\n · Prendre connaissance de l’Épidémiologie\n de l’irradiation médicale pédiatrique\,\n · Justification clinique des examens pédiatriques\n
DTSTAMP:20170621T011545Z
END:VEVENT
END:VCALENDAR
