BEGIN:VCALENDAR
VERSION:2.0
METHOD:PUBLISH
BEGIN:VEVENT
UID:WILD_APRICOT_EVENT_575554_SESSION_1
DTSTART:20121123T230000Z
DTEND:20121124T230000Z
SUMMARY:Cancer de la prostate
LOCATION:Luxembourg
DESCRIPTION:http://slr.lu/event-575554\n\nMadame\, Monsieur\,chers confrères\n     \n   Au nom de la Société Luxembourgeoise de Radiologie\, et sur initiative de notre confrère Yves Lasar\, je vous prie par la présente de bien vouloir lister dans vos agendas la formation dont les détails sont listés dans l'invitation jointe\, en sachant que: la partie IRM de la prostate sera présentée par le Dr. Francois Cornud radiologue bien connu de Paris attaché à l'hôpital de Cochin.\n   \n      La formation intéresse les spécialités d'urologie\, oncologie et radiologie en premier lieu.      Avec mes remerciements\n   \n   invitation societe lux. d'urologie.pdf\n      \n      Remy Demuth      Président      \n      president@slr.lu 
DTSTAMP:20170621T011453Z
END:VEVENT
END:VCALENDAR
