BEGIN:VCALENDAR
VERSION:2.0
METHOD:PUBLISH
BEGIN:VEVENT
UID:WILD_APRICOT_EVENT_491491_SESSION_1
DTSTART:20120511T220000Z
DTEND:20120512T220000Z
SUMMARY:LA SUBSTANCE BLANCHE À TRAVERS LES ÂGES
LOCATION:Talence Domaine du Haut-Carré
DESCRIPTION:http://slr.lu/event-491491\n\n                        Cette journée d’enseignement sera consacrée aux aspects normaux et pathologiques de la substance blanche à travers les âges\n                                                                                Nous reverrons les particularités pédiatriques\, ferons le point sur les pathologies de l’adulte jeune\, notamment la sclérose en plaques\, en discutant les nouveaux critères IRM pour le diagnostic et en revoyant la place de l’imagerie dans les indications et la surveillance des nouveaux traitements de la sclérose en plaques.\n          Les aspects de la substance blanche au cours du vieillissement cérébral seront également largement développés.\n         Une place importante sera enfin consacrée à des cas cliniques commentés et aux recommandations pour bien conduire un protocole IRM dans toutes les affections de la substance blanche.\n                
DTSTAMP:20170621T011956Z
END:VEVENT
END:VCALENDAR
