BEGIN:VCALENDAR
VERSION:2.0
METHOD:PUBLISH
BEGIN:VEVENT
UID:WILD_APRICOT_EVENT_491487_SESSION_1
DTSTART:20120328T220000Z
DTEND:20120330T220000Z
SUMMARY:ATELIERS DE COLONOSCOPIE VIRTUELLE DÉDIÉS À LA LECTURE EN « FILET-VIEW » ET VUES DE DISSECTION
LOCATION:Liège
DESCRIPTION:http://slr.lu/event-491487\n\nPour les radiologues désireux de commencer la colonoscopie virtuelle ou de se perfectionner\n  Ces ateliers sont constitués par une alternance de courts exposés théoriques et de pratique individuelle sur console\, avec revue commune et interactive après chaque cas \; les dossiers sont sélectionnés selon un difficulté croissante.\n Au cours de ces journées\, chacun pourra apprendre les caractéristiques et le potentiel de la colonoscopie virtuelle parmi les différentes techniques de dépistage du cancer du côlon \; apprendre l’histoire naturelle des polypes et des cancers coliques \; apprendre à rédiger le compte-rendu \; acquérir les connaissances pratiques et théoriques de la préparation colique\, du marquage des résidus et de la réalisation technique \; comprendre le principe de lecture avec les vues de dissection et apprendre à lire les examens et à déjouer les pièges des sténoses circonférentielles\, de la valvule de Bauhin\, du rectum et des polypes mobiles. Les participants auront la possibilité d’observer la réalisation pratique de quatre examens\, d’apprendre individuellement sur consoles General Electric et Philips (10 participants au total). Deux radiologues expérimentés les assisteront \; cinquante cas au moins seront lus et analysés pendant les 2 jours puis cinquante cas et leurs solutions seront offerts en fin de cours pour la poursuite de la formation à domicile.\n
DTSTAMP:20170621T012120Z
END:VEVENT
END:VCALENDAR
