BEGIN:VCALENDAR
VERSION:2.0
METHOD:PUBLISH
BEGIN:VEVENT
UID:WILD_APRICOT_EVENT_491484_SESSION_1
DTSTART:20120614T220000Z
DTEND:20120615T220000Z
SUMMARY:JOURNÉE DE PRINTEMPS DE LA SOCIÉTÉ D’IMAGERIE GÉNITO-URINAIRE
LOCATION:Lyon
DESCRIPTION:http://slr.lu/event-491484\n\n   Cancer de la prostate : quelle imagerie en 2012 ?\n    L’imagerie du cancer de la prostate est en pleine mutation. Enfin\, le cancer de la prostate paraît visible et l’imagerie devient\, lentement mais sûrement\, un élément incontournable de la décision thérapeutique.\n   L’avènement des thérapies focales et la détection des récidives locales après traitement en élargissent encore le champ d’application. L’imagerie de la prostate devrait donc devenir dans un futur proche une part non négligeable de l’activité des radiologues publics et privés. Cette journée se veut scientifique et présentera les techniques de pointe : IRM multiparamétrique\, techniques échographiques avancées (échographie de contraste\, élastographie\, etc.)\, fusion échographie/IRM. Elle se veut aussi pédagogique et comprendra notamment une séance d’interprétation interactive.\n 
DTSTAMP:20170621T011805Z
END:VEVENT
END:VCALENDAR
