BEGIN:VCALENDAR
VERSION:2.0
METHOD:PUBLISH
BEGIN:VEVENT
UID:WILD_APRICOT_EVENT_491483_SESSION_1
DTSTART:20120916T220000Z
DTEND:20120918T220000Z
SUMMARY:IMAGERIE MAMMAIRE ET TUMEURS OSSEUSES : L’INDISPENSABLE !
LOCATION:Paris – Institut Curie
DESCRIPTION:http://slr.lu/event-491483\n\n        Chaque journée débutera par un rappel des bases utiles pour interpréter les examens d’imagerie en insistant sur l’IRM.\n     La majeure partie de la session sera ensuite consacrée à la présentation de cas cliniques complets : multimodalités\, corrélations avec l’histologie et conséquences pratiques selon le contexte clinique. Ces dossiers seront discutés avec des pathologistes.\n      Elle se terminera par une synthèse des données essentielles : diagnostic\, compte-rendu pertinent.\n     Les participants seront capables de comprendre :\n     - la hiérarchisation des techniques d’imagerie et leurs indications\,\n      - les exigences techniques et la technique de lecture\,\n     pour qu’ils soient plus à l’aise devant une IRM mammaire ou une tumeur osseuse. Un CD des cours et des cas sera fourni.\n            Organisation : A. TARDIVON (Institut Curie – Paris) et D. VANEL (Institut Rizzoli – Bologne)\n      Les 17 et 18 septembre 2012 à Paris – Institut Curie\n      Renseignements et inscriptions :\n     Muriel PRAMPART\n     Secrétariat du Dr S. NEUENSCHWANDER Département d’Imagerie Médicale Institut Curie\n      26\, rue d’Ulm\n     75248 PARIS CEDEX 05 Tél.:0144324213-Fax:0153104015 E-mail : muriel.prampart@curie.net\n    
DTSTAMP:20170621T011720Z
END:VEVENT
END:VCALENDAR
