BEGIN:VCALENDAR
VERSION:2.0
METHOD:PUBLISH
BEGIN:VEVENT
UID:WILD_APRICOT_EVENT_491480_SESSION_1
DTSTART:20120522T220000Z
DTEND:20120523T220000Z
SUMMARY:La maîtrise de la technique échographique de façon fiable et reproductible doit permettre un langage commun avec les médecins généralistes et pédiatres
LOCATION:Rennes
DESCRIPTION:http://slr.lu/event-491480\n\n                        La maîtrise de la technique échographique de façon fiable et reproductible doit permettre un langage commun avec les médecins généralistes et pédiatres\n                               L’objectif de cet atelier est d’optimiser le dépistage clinique et échographique de la luxation congénitale de hanches en accord avec les recommandations de la Conférence de Consensus (JFR 1991).\n       Ce dépistage a lieu à l’Hôpital Sud de Rennes dans le cadre d’une consultation mixte écho- orthopédique\, réalisée depuis 19 ans.\n        L’enseignement au cours de l’atelier associe un rappel théorique de la clinique et des modalités thérapeutiques de la luxation congénitale de hanches\, l’apprentissage et la technique échographique en « monocoupe dynamique » validée par les résultats de la consultation commune\, un atelier pratique pour 5 radiologues avec réalisation des échographies de hanches sous contrôle d’un radio-pédiatre et d’un orthopédiste pédiatre.\n        Nombre d’inscriptions limité à 5 radiologues par journée.\n         
DTSTAMP:20170621T011917Z
END:VEVENT
END:VCALENDAR
