BEGIN:VCALENDAR
VERSION:2.0
METHOD:PUBLISH
BEGIN:VEVENT
UID:WILD_APRICOT_EVENT_491479_SESSION_1
DTSTART:20120511T220000Z
DTEND:20120512T220000Z
SUMMARY:9ème Journée Radio-Clinique du Mont Saint-Michel « IMAGERIE PRATIQUE DE LA THYROÏDE ET DES SURRÉNALES »
LOCATION:Mont Saint-Michel
DESCRIPTION:http://slr.lu/event-491479\n\n   ORGANISÉE PAR LES DÉLÉGATIONS DE BASSE-NORMANDIE ET DE BRETAGNE DE LA SFR\nAVEC LA PARTICIPATION DU PR LEGMAN (CHU COCHIN – PARIS)\, DR MARCY (CLCC LACASSAGNE – NICE)\, DR BARDET (CLCC BACLESSE – CAEN)\, PR REZNICK ET DR FOURNIER (CHU – CAEN)\n    aura lieu le samedi 12 mai 2012 au Mont Saint-Michel Relais Saint-Michel\n    MATIN : RAPPEL DE LA PHYSIOLOGIE ENDOCRINIENNE DE LA THYROÏDE\nCE QU’ATTEND UN CLINICIEN DE L’IMAGERIE ET LA CONDUITE À TENIR DEVANT UN NODULE THYROÏDIEN ÉCHOGRAPHIE DE LA THYROÏDE - SCINTIGRAPHIE ET NODULES - SCANNER ET IRM DE LA THYROÏDE ET CANCER THYROÏDIEN COMPTE-RENDU TYPE ET SUIVI - COMMENT PIQUER UNE THYROÏDE - ANATOMO-PATHOLOGIE THYROÏDIENNE - QUIZ\n    APRÈS-MIDI : RAPPEL DE LA PHYSIOLOGIE ENDOCRINIENNE DE LA SURRÉNALE ET SCINTIGRAPHIE\nÉCHOGRAPHIE\, SCANNER ET IRM\n   AVIS DES EXPERTS : QUE FAIRE LORS DE LA DÉCOUVERTE D’UNE MASSE SURRÉNALIENNE LORS D’UN SCANNER INJECTÉ D’EMBLÉE – FAUT-IL DÉCRIRE LES NODULES SURRÉNALIENS DE MOINS DE 1 CM – FAUT-IL BIOPSIER LES NODULES SURRÉNALIENS ?\n   ANATOMO-PATHOLOGIE SURRÉNALIENNE\nCE QU’ATTEND UN CLINICIEN DE L’IMAGERIE\nDISCUSSION\n    AGRÉMENT FEPUR EN COURS\n    RENSEIGNEMENTS : SECRÉTARIAT DU DR ALBISETTI\n   SERVICE D’IMAGERIE MÉDICALE - CENTRE HOSPITALIER ROBERT-BISSON - 14107 LISIEUX CEDEX TÉL. : 02 31 61 30 15 – FAX : 02 31 61 31 39 - E-MAIL : j.albisetti@ch-lisieux.fr\n    INSCRIPTIONS : DOCTEUR M. EL HAJJAM - TRÉSORIER 109\, RUE DE MESSEÏ - 61100 FLERS\n 
DTSTAMP:20170621T012008Z
END:VEVENT
END:VCALENDAR
