BEGIN:VCALENDAR
VERSION:2.0
METHOD:PUBLISH
BEGIN:VEVENT
UID:WILD_APRICOT_EVENT_491478_SESSION_1
DTSTART:20120511T220000Z
DTEND:20120512T220000Z
SUMMARY:ATELIERS D’ÉCHOGRAPHIE OSTÉO-ARTICULAIRE
LOCATION:Bordeaux
DESCRIPTION:http://slr.lu/event-491478\n\n   Poignet - Main - Doigts\n    Ces ateliers se déroulent sur une journée sous la direction des radiologues du Centre de Consultation de la Clinique du Sport de Bordeaux - Mérignac.\n   Chaque session débute par des rappels sur les techniques d’exploration et les principales pathologies.\n    L’accent est ensuite mis sur l’exploration échographique (PHILIPS IU 22) en petits groupes limités afin que chacun puisse s’exercer dans une atmosphère conviviale.\n 
DTSTAMP:20170621T012020Z
END:VEVENT
END:VCALENDAR
