BEGIN:VCALENDAR
VERSION:2.0
METHOD:PUBLISH
BEGIN:VEVENT
UID:WILD_APRICOT_EVENT_491477_SESSION_1
DTSTART:20120523T220000Z
DTEND:20120525T220000Z
SUMMARY:ATELIERS PRATIQUES D’IRM PELVIENNE NIVEAU 2 : DU SYMPTÔME À L’IMAGE
LOCATION:Paris
DESCRIPTION:http://slr.lu/event-491477\n\n   ORGANISÉS PAR M. BAZOT\nAVEC LA PARTICIPATION DE M. BENJOAR ET A. MOREL\n    auront lieu les 24 et 25 mai 2012 à Paris\n    COURS DE PERFECTIONNEMENT EN IMAGERIE GYNÉCOLOGIQUE PORTANT SUR L’UTILISATION DES DIFFÉRENTES TECHNIQUES D’IMAGERIE\, EN PARTICULIER DE L’IRM\, DANS L’EXPLORATION DES PRINCIPAUX SYMPTÔMES (DOULEURS PELVIENNES AIGUËS ET CHRONIQUES\, MÉNOMÉTRORRAGIES\, INFERTILITÉ).\nSERONT DÉTAILLÉS LES ARBRES DÉCISIONNELS PERMETTANT DE RAISONNER DEVANT LA DÉCOUVERTE D’UNE MASSE PELVIENNE EN ÉCHOGRAPHIE ET EN IRM PELVIENNE.\n    RENSEIGNEMENTS ET INSCRIPTIONS : ANNIE CIROLDI\n   SECRÉTARIAT DU SERVICE DE RADIOLOGIE HÔPITAL TENON\n   4\, RUE DE LA CHINE\n   75970 PARIS CEDEX 20 TÉL.:0156017591–FAX :0156016402 E-MAIL : annie.ciroldi@tnn.aphp.fr\n 
DTSTAMP:20170621T011905Z
END:VEVENT
END:VCALENDAR
