BEGIN:VCALENDAR
VERSION:2.0
METHOD:PUBLISH
BEGIN:VEVENT
UID:WILD_APRICOT_EVENT_491476_SESSION_1
DTSTART:20120517T220000Z
DTEND:20120519T220000Z
SUMMARY:7ème séminaire franco-vietnamien « ÉCHOGRAPHIE OSTÉO-ARTICULAIRE »
LOCATION:Hô-Chi-Minh-ville - Vietnam
DESCRIPTION:http://slr.lu/event-491476\n\n                        Le 7ème séminaire franco-vietnamien\n         « ÉCHOGRAPHIE OSTÉO-ARTICULAIRE »\n          ORGANISÉ PAR L’UNIVERSITÉ DES SCIENCES MÉDICALES DE HÔ-CHI-MINH-VILLE ET\nIMAGERIE MÉDICALE SANS FRONTIÈRES – HÔPITAL HENRI-MONDOR - CRÉTEIL\n          SOUS LA RESPONSABILITÉ DE THU HA DAO ( CRÉTEIL) ET VO TAN DUC (HÔ-CHI-MINH-VILLE)\n          AVEC LA PARTICIPATION DE J.L. MONTAZEL ET R. BARGOIN\n          Les 18 et 19 mai 2012 à Hô-Chi-Minh-ville - Vietnam Hôpital Universitaire des Sciences Médicales\n          PRINCIPES D’ÉCHOGRAPHIE OSTÉO-ARTICULAIRE – ÉCHOGRAPHIE MUSCULAIRE ET TENDINEUSE – PARTICULARITÉS DE L’ÉCHOGRAPHIE DE L’ÉPAULE PARTICULARITÉS DE L’ÉCHOGRAPHIE DE LA CHEVILLE\nLES AUTRES INDICATIONS : HANCHE\, GENOU\, MAIN ET COUDE\n          ATELIERS PRATIQUES AVEC DÉMONSTRATIONS SUR VOLONTAIRES OU PATIENTS\n          RENSEIGNEMENTS ET INSCRIPTIONS : DOCTEUR DAO\n         E-MAIL : thu-ha.dao@hmn.aphp.fr\n                
DTSTAMP:20170621T011931Z
END:VEVENT
END:VCALENDAR
