BEGIN:VCALENDAR
VERSION:2.0
METHOD:PUBLISH
BEGIN:VEVENT
UID:WILD_APRICOT_EVENT_491474_SESSION_1
DTSTART:20120607T220000Z
DTEND:20120609T220000Z
SUMMARY:COURS INTERACTIF D’IMAGERIE CERVICALE
LOCATION:Bordeaux
DESCRIPTION:http://slr.lu/event-491474\n\n                        Cancers de la cavité buccale\, du pharynx et du larynx : imagerie initiale et de suivi\n                                                                                Ce cours s’adresse à la fois aux radiologues et aux chirurgiens de la tête et du cou. Organisé sous forme d’exposés didactiques et d’ateliers pratiques\, il permettra de se perfectionner dans les techniques d’imagerie scanner et IRM des tumeurs malignes de la cavité buccale\, du pharynx et du larynx\, en abordant les techniques d’acquisition et les points clés de l’interprétation.\n         Les participants auront à analyser des examens scanner et IRM au cours d’ateliers pratiques (un ordinateur pour 2)\, avec une grille de lecture et les réponses seront ensuite commentées. Un document de synthèse sera remis en fin de cours.\n         Le nombre d’inscrits est volontairement limité à 30 pour permettre un meilleur encadrement et la participation de chacun. Nous espérons que ce format original de cours permettra à chaque participant de repartir avec des bases solides.\n                
DTSTAMP:20170621T011831Z
END:VEVENT
END:VCALENDAR
