BEGIN:VCALENDAR
VERSION:2.0
METHOD:PUBLISH
BEGIN:VEVENT
UID:WILD_APRICOT_EVENT_491473_SESSION_1
DTSTART:20120531T220000Z
DTEND:20120601T220000Z
SUMMARY:4ÈMES ATELIERS LILLOIS D’IMAGERIE DE LAPROSTATE
LOCATION:Lille–Serviced’Imagerie Génito-Urinaire (Pr LEMAÎTRE)
DESCRIPTION:http://slr.lu/event-491473\n\n                        Le but de cette journée est de proposer une formation pratique à l’imagerie par résonance magnétique du cancer de la prostate\n                                                                                        Réalisée en collaboration avec les urologues et dispensée en petits groupes\, cette formation d’une journée est axée sur l’interprétation interactive\, confrontée à l’histopathologie\, de cas cliniques en binôme sur console ou individuellement sur tablette. Ces séances d’interprétation (4h30 au total) sont jalonnées de brefs rappels urologiques\, radiologiques\, techniques. Une large place sera faite à la discussion autour des dossiers. Environ 25 seront étudiés dans la journée\, couvrant toute la pathologie prostatique.\n          A l’issue de la journée\, vous comprendrez mieux le développement des cancers prostatiques et vous serez en mesure de réaliser une IRM de la prostate de façon optimale (cours d’optimisation technique fait par nos manipulateurs)\, de détecter les principaux foyers de cancer sur l’IRM multiparamétrique (T2\, diffusion\, perfusion)\, de les distinguer du tissu normal\, tout en connaissant les limites de l’examen.\n          Cette année\, nous élargirons l’enseignement à l’imagerie des récidives après traitement et porterons une attention particulière aux techniques d’interprétation et de rendu des résultats de façon standardisée\, comme le préconise l’ESUR. Les supports d’enseignement\, les protocoles techniques et les cas cliniques seront accessibles en ligne pendant 6 mois sur notre site Internet\, pour faciliter et prolonger l’assimilation des connaissances.\n                
DTSTAMP:20170621T011855Z
END:VEVENT
END:VCALENDAR
