BEGIN:VCALENDAR
VERSION:2.0
METHOD:PUBLISH
BEGIN:VEVENT
UID:WILD_APRICOT_EVENT_491471_SESSION_1
DTSTART:20120920T220000Z
DTEND:20120922T220000Z
SUMMARY:Fit for Screening 3 Intensiv-Kurs für Mammographie
LOCATION:Salzburg
DESCRIPTION:http://slr.lu/event-491471\n\n                                \n                                                                                           \n                                 \n         Fit for Screening 3\n         Intensiv-Kurs für Mammographie                                            Früherkennung von Mammakarzinomen –\n         von erfahrenen Screening-Experten vermittelt\n          Carestream Health führt seit vielen Jahren die Mammographie- Fortbildungsreihe Fit for Screening durch. Dieser Intensiv-Kurs richtet sich vor allem an die in der Mammadiagnostik tätigen Radiologen und Gynäkologen.\n          Das Besondere dieser Veranstaltung ist die geringe Teilnehmerzahl. Sie erlaubt eine konzentrierte Beurteilung von sehr vielen Fallbeispielen und einen intensiven Informationsaustausch.\n          Die positive Resonanz von weit über 2.500 Teilnehmern bestätigen immer wieder unser Konzept.\n                                  Methodik\n         Schwerpunkt des Seminars ist die Beurteilung von zahlreichen Mammogrammen. Dafür wurden 350 neue Fallbeispiele mit vielen relevanten Anzeichen für ein Mammakarzinom vorbereitet. Dieser eineinhalbtägige Kurs für maximal 24 Teilnehmer wird Ihnen wichtige Informationen und neueste Erkenntnisse für die Mammadiagnostik vermitteln und Ihre diagnostischen Fähigkeiten erweitern. Die Beurteilung der Aufnahmen erfolgt an Mammographie-Workstations mit hochauf-lösenden Monitoren.\n          Ablauf\n         Freitag\, 13.30 – 20.00 Uhr\n          Der Kurs beginnt mit einem Einführungsvortrag von 45 Minuten\, danach finden 2 Workshops statt. Im ersten Workshop geht es um Intervall-Karzinome. Sie werden die Mammogramme aus den zwei zuvor durchgeführten Screening-Untersuchungen vor dem Auftreten der Intervallkarzinome nach frühesten Anzeichen für ein Mammakarzinom beurteilen. Im Anschluss daran sehen Sie die Mammogramme mit den Intervallkarzinomen.\n          Retrospektive Untersuchungen haben gezeigt\, dass ein Teil der Intervallkarzinome schon vorher hätte entdeckt werden können. Dieser spezielle Workshop soll Ihren Blick für die Früherkennung schärfen.\n              * Vortrag: Spät entdeckte Mammakarzinome\n\n                * Workshop: Beurteilung von 75 Intervall-Karzinomen\n\n                * Workshop: Besprechung aller Fallbeispiele\n\n          Die Beurteilung der Aufnahmen erfolgt an Mammographie- Workstations mit hochauflösenden Monitoren. \n         20.00 Uhr: Gemeinsames Abendessen.\n          Samstag\, 9.00 – 15.30 Uhr\n         Der Samstag beginnt mit einem kurzen Vortrag zu aktuellen Themen wie digitale Mammographie oder MR Mammographie. Um 10.30 Uhr beginnt ein weiterer Workshop. Sie beurteilen eine Serie von Screening-Mammogrammen (300 Fallbeispiele) und überprüfen Ihre Sensitivität und Spezifität.\n              * MRT der Mamma: Möglichkeiten und Grenzen\n\n                * Workshop: Screening-Test\n\n          12.30 – 13.30 Uhr: Mittagessen\n          CME-Punkte\n         Die Veranstaltungen finden in Zusammenarbeit mit der „Akademie für Fort- und Weiterbildung in der Radiologie“ statt. Die Teilnahme wird mit 15 CME-1 Punkten bewertet.\n          Die Evaluation der Veranstaltung in Berlin von der ÄK Berlin ist noch offen\; sie wird voraussichtlich aber mit 19 CME-1 Punkten bewertet.\n          Die Referenten\n         Prof. Dr. R. Holland\n National Expert and Training Centre for Breast Cancer Screening\, Academisch Ziekenhuis Nijmegen\, The Netherlands.\n          Prof. Dr. U. Bick\n Institut für Radiologie\, Charité Campus Mitte\, Berlin\n          I. Burkhardt\n         Dr. R. Schaetzing\n Carestream Health Deutschland GmbH\, Stuttgart\n          Teilnahmegebühren\n         Die Teilnahmegebühr für das Seminar beträgt 1.098\,- Euro inkl. gesetzl. Mehrwertsteuer. Darin enthalten sind die Kosten für das Seminar\, Abendessen (Freitag)\, Mittagessen (Samstag)\, Kaffeepausen und Erfrischungsgetränke. Die Teilnahmegebühr enthält nicht die Kosten für eine Übernachtung. Falls Sie ein Zimmer benötigen\, buchen Sie bitte direkt im Tagungshotel.\n          Stornierung\n         Nach Eingang der Teilnahmegebühr erhalten Sie eine Bestätigung über den von Ihnen gebuchten Termin. Sollten Sie verhindert sein\, kann ohne Anfall von Stornogebühren ein Ersatzteilnehmer gemeldet werden. Ist kein Ersatzteilnehmer vorhanden\, sind folgende Stornogebühren zu entrichten:\n                     Mehr als 6 Wochen vor Kursbeginn:\n           Volle Erstattung der Teilnahmegebühr\n           4-6 Wochen vor Kursbeginn oder später:\n           Stornogebühr 50% der Teilnahmegebühr\n           2-4 Wochen vor Kursbeginn oder später:\n           Stornogebühr 75% der Teilnahmegebühr\n           2 Wochen vor Kursbeginn oder später:\n           Stornogebühr 100% der Teilnahmegebühr\n         Wir danken der Firma NEC Display Solutions Europe GmbH\, München\, für die freundliche Unterstützung.                                                                                                         Termine und Veranstaltungsorte:\n                  21./22. September 2012 - Salzburg\n                  16./17. November 2012 - Berlin\n                   \n                                                                                           \n                  Online Anmeldung:\n Bitte hier anklicken\n                   \n                                                                                          Zimmerreservierung in den Tagungshotels\n                  Radisson Blu Hotel and Conference Center - Salzburg\n                 EZ\, DZ 129\,- € o.F.\;\n                 Frühstück: 18\,00 €\n                  NH Berlin Friedrichstrasse - Berlin\n                 EZ 140\,00 €\, DZ 161\,00 € jeweils inklusive Frühstück\n                   \n                                                                                          Ein Carestream Health Seminar für Ihre Praxis\n                  \n                  Die Veranstaltung findet in Zusammenarbeit mit der Akademie für Fort- und Weiterbildung in der Radiologie statt.\n                                                                                           \n                  Informationen zum Runterladen\n                   \n                                                          \n\n                         Sollten Sie noch Fragen zur Anmeldung haben\, wenden Sie sich bitte an:\n       Simone Denzinger / Patricia Rottenfußer \n       DE-CSH-Med-Info@Carestream.com\n       Tel.: 0180 32 54 361                              Wir danken der Firma NEC Display Solutions Europe GmbH\, München\, für die freundliche Unterstützung.\n
DTSTAMP:20170621T011645Z
END:VEVENT
END:VCALENDAR
