BEGIN:VCALENDAR
VERSION:2.0
METHOD:PUBLISH
BEGIN:VEVENT
UID:WILD_APRICOT_EVENT_491467_SESSION_1
DTSTART:20120919T220000Z
DTEND:20120922T220000Z
SUMMARY:Central European Conference on Noninvasive Cardiovascular Imaging
LOCATION:Budapest\, Hungary
DESCRIPTION:http://slr.lu/event-491467\n\nCentral European Conference on Noninvasive Cardiovascular Imaging\n   \n   \n  20-22th of September 2012 Budapest\, Hungary\n   \n   \n   \n   \n  Dear Congress Participants! Dear Friends!\n   \n  The 3rd Central European Conference on Noninvasive Cardiovascular Imaging will be held in 2012\, September 20-22 in Budapest\, Hungary. The venue is the „House of Hungarians” located at the Square of Holy Trinity in the heart of the Castle District of Buda.\n   \n   \n  The Non invasive Cardiovascular Diagnostics\, including in particular CT\, MRI and PET diagnostics play an increasingly prominent role in modern day patient care. Technological advancements in these fields require continuous learning and development. In order to be able to maintain high standards while performing our work\, we must learn the specialities of Cardiological diagnostics.The Central European Conference on Noninvasive Cardiovascular Imaging provides us with an excellent opportunity for developing our knowledge.  We have invited the world`s most noted and famous lecturers in this field\, thereby guaranteeing a very high professional standard to the conference\, providing an opportunity for radiologists to participate in a world-class training event at a low cost. We would like to say  thanks to all the lecturers for providing this opportunity to us!\n   \n   \n  Besides participating in this excellent professional program our guests have the opportunity to visit our city and its surrounding regional attractions (Winelands\, lake Balaton)\, and to participate in countless cultural events organised in the city.\n   \n  Thanks to our supporters\, the registration fee is low in order to make participation in this event possible for all Central European radiologists with lower income.\n   \n  Furthermore\, we would like to thank our sponsors for their support allowing access to highly professional training in the field of noninvasive cardiological diagnostics in Central Europe\, and allowing further development in the already acquired knowledge!\n   \n  On behalf of the Organizing Committee\, we would like to wish all participants effective professional work and a pleasant stay in Budapest!\n   \n   \n   \n   \n   \n  István Battyány                                                             Robert M Steiner                                   \n   \n   \n   \n   \n   \n   \n  A KONFERENCIA HELYSZÍNE             CONFERENCE LOCATION\n  Budapest\, Magyarország            Budapest\, Hungary\n   \n  A KONFERENCIA ELNÖKEI\n  PRESIDENTS OF THE CONFERENCE\n   \n  István Battyány Robert M Steiner\n  MD\, PhD\, Med.Hab. MD\, FACC\, FACR\,\n   \n   \n  SZERVEZŐ BIZOTTSÁG             ORGANIZING COMMITTEE\n  Dr. Robert M Steiner                        Robert M Steiner MD\n  Dr. Battyány István                        István Battyány MD           \n  Dr. Miklós Krisztina                         Krisztina Miklós MD\n  Dr. Várady Edit                        Edit Várady MD\n  Dr. Balázs György                        György Balázs MD           \n  Dr. Giyab Omar                        Omar Giyab MD\n  Dr. Maurovich Horváth Pál            Pál H. Maurovich\n  Dr. Ruzsics Balázs                         Balázs Ruzsics MD\n   \n  KONGRESSZUSI IRODA             CONGRESS OFFICE\n  Hajduné Udvarácz Veronika            Veronika Udvarácz\n  PTE KK Radiológiai Klinika            University of Pécs Clinical Centre\n                          Department of Radiology\n  H-7624 Pécs\, Ifjúság útja 13.            H-7624 Pécs\, Ifjúság útja 13.           \n  Tel.: +36 72 536197                        Tel.: +36 72 536197\n  Fax: +36 72 536199                        Fax: +36 72 536199\n  E-mail: veronika.udvaracz@aok.pte.hu            E-mail: veronika.udvaracz@aok.pte.hu\n   \n  TENSI Aviation Kft. Pécs            TENSI Aviation Ltd.            Pécs           \n   \n  REGISZTRÁCIÓ            REGISTRATION\n  Elektronikusan vagy a kongresszus helyszínén            Via website or on spot\n  Regisztrációs díj  200 Euro            Registration fee 200 Euro\n  Regisztráció a Weben:              Registration on the Web:\n   \n  http://www.cecni-cardiovascularimaging.eu\n   \n  Regisztráció E-mailen:             Registration via E-mail:\n  veronika.udvaracz@aok.pte.hu            veronika.udvaracz@aok.pte.hu\n  batyo@chello.hu            batyo@chello.hu           \n   \n   \n  HELYSZÍNI REGISZTRÁCIÓ            CONGRESS REGISTRATION           \n  A konferencia regisztrációs pultjánál            At the registration desk of the Conference\n   \n  2012. szeptember 20.: 8.00 – 17.00            20th September 2012: 8.00 – 17.00\n  2012. szeptember 21.: 8.00 – 17.00            21th September 2012: 8.00 – 17.00\n  2012. szeptember 22.: 8.00 – 12.00            22th September 2012: 8.00 – 12.00\n  A résztvevők a regisztrációs pultnál            Participants are able to pick up their\n  vehetik fel a kitűzőt\, és a             badge and congress bag at the\n   kongresszusi táskát            registration desk.\n   \n  A kitűzőt a kongresszus területén             Please wear the congress badge            \n  szíveskedjenek viselni.            during the entire congress time.\n   \n  A KONGRESSZUS IDŐBEOSZTÁSA            CONGRESS TIME TABLE\n   \n                                     20th September 2012\n                              21th September 2012\n                              22th September 2012\n                   \n                                   8:15-8:30\n            Opening ceremony\n                              8:30-12:45\n            Session II.\n            Part I.\n            Part II.\n            Part III.\n                              8:00-12:00\n            Session IV.\n            Part I.\n            Part II.\n             \n                   \n                                   08:30-12:00\n            Session I.\n            Part I.\n            Part II.\n                   \n                                   12:30-13:30\n            Lunch time\n                              12:45-13:45\n            Lunch time\n                              12:00-13:00\n            Lunch time\n                   \n                                   13:30-17:30\n            Session I.\n            Part III.\n            Part IV.\n                              16:15- 17:45\n            Session III.\n             \n                              Part III.\n            15:45-17:00\n            Case Presentation\n             \n             \n            17:00 Closing ceremony\n                   \n                        \n                                    \n                              19:00\n            Congress dinner\n                   \n                   \n   \n  ELŐADÓK LISTÁJA\n  LIST OF FACULTY\n   \n                          Robert M Steiner\n                        MD FACC FACR\n                        Professor of Radiology and Medicine\n         Temple University Health System\n         Philadelphia Pa\n           \n                        Clinical Professor of Radiology\n         Stanford University School of Medicine\n         Stanford California\n                                  U Joseph Schoepf\n                        MD FAHA FSCCT\n                        Professor of Radiology and Medicine\n         Director of Cardiovascular Imaging\n         Medical College of South Carolina Charleston SC\n           \n                         \n                                  Thomas G Flohr \n                        PhD\, MS (Semiconductor Physics)\n                        Director of CT Physics and Application Development\, Siemens Healthcare\n           \n                        Associate Professor Eberhard-Karis University Tubingen\, Germany\n                                  Albert de Roos \n                        MD PhD\n                        Professor of Radiology Director of Cardiac Imaging\n         University Hospital\, Leiden\n         Leiden\, Netherlands\n                         \n                                  Arthur E. Stillman\n                        MD MS PhD FAHA\n                        William and Kay Casarella Professor of radiology and Professor of Medicine\n         Emory University School of Medicine\n         Atlanta Georgia\n           \n                        Past President\, North American Society of Cardiovascular Radiology\n         Chair\, American Heart Association Council on Cardiovascular Radiology and Intervention\n                                  Gauthan Reddy\n                        MD PhD\n                        Director of Thoracic Imaging University of Washington\n                        Secretary of North American Society of Cardiovascular Imaging\n          Deputy Editor of the Journal of Thoracic Imaging\n                                  Hildo Lamb\n           \n           \n           \n                        MD PhD\n                        University Hospital\, Leiden\n         Leiden\, Netherlands\n                         \n                                  Rainer K Rienmuller\n           \n           \n           \n                        MD PhD\n                        Professor University of Graz\n         Graz\, Austria\n           \n                        Founder of the Cardiac Imaging Center of the University of Graz\n                                  Hans-Christoph Becker\n                        MD PhD\n                        Professor of Radiology\n         Chief Section of Body CT and PET CT\n         University of Munich\, Germany\n           \n                         \n                                  Balázs Ruzsics\n                        MD PhD\n                        Adjunct Assistant Professor (Cardiac Imaging Research)\n         Department of Radiology and Radiological Sciences\n         University of South Carolina\n         Charleston SC USA\n                        Faculty Member\,\n         Heart Institute\n         University of Pécs\,\n         Pécs Hungary\n                                  Pál Horváth Maurovich\n                        MD\n                        Cardiologist\n                        Semmelweis University Heart Center Budapest\n                                  István Battyány\n                        MD PhD Med.Habil.\n                        University of Pécs Clinical Centre\, Director of the Radiological Department\, Chief Radiologist of Baranya County\n           \n                        President of Hungarian College of Radiology\, President of Society of Hungarian Radiologists\n                   \n   \n   \n   \n   \n   \n   \n   \n   \n   \n   \n   \n  RÉSZLETES SZAKMAI PROGRAM                         DETAILED PROGRAM\n   \n  Central European Conference on\n  Noninvasive Cardiovascular Imaging\n  September 20 – 22\, 2012\n  Budapest\, Hungary\n   \n  Day 1 - Thursday\, September 20\, 2012\n   \n  08:15-8:30          Introduction and Opening Ceremony\n  Greatings from the Organizing Committee\,  Introduction of the Faculty  Istvan Battyany\, Robert M. Steiner.\n       \n                   \n  Back to Basics\n  What the Radiologist and Cardiologist Needs to Know?  \n   \n  SESSION I \n  CARDIOVASCULAR COMPUTED TOMOGRAPHY\n   \n  PART I.\n   \n  Moderators: István Battyany\, Robert M. Steiner\n   \n  8:30 – 9:00              Current status of noninvasive cardiovascular imaging\n              Robert M Steiner\n                                  \n  9.00 – 9:30              Basic Principles of cardiac CT  \n              Thomas Flohr\n   \n  9:30 – 10:15            How I perform cardiac CT in the adult patient \n              U Joseph Schoepf\n   \n  10:15 – 10:45            CT anatomy of the heart and the coronary circulation \n             Robert M Steiner\n   \n  10:45 – 11:00         Coffee Break\n   \n   \n  PART II.\n   \n  Moderators:  Balázs Ruzsics\,\n   \n  11:00 – 11:45            Coronary CT anomalies\,grafts and stents      \n              Gautham Reddy\n                                       \n  11:45 – 12:15              How to minimize Radiation exposure in cardiac CT  \n              Thomas Flohr\n   \n  12:15 – 12:30            Questions and comments for the morning faculty                                   \n                         \n  12:30 – 13:30            Lunch\n   \n   \n  PART III.\n   \n  Moderators: Christoph Becker\,\n   \n  13:30 – 14:15               Cardiac CT for the evaluation of acute and chronic chest pain \n             U Joseph Schoepf\n   \n  14:15 – 14:45            CT of the coronary arteries: imaging the atherosclerotic plaque   \n              Arthur Stillman\n                                      \n  14:45 – 15:15       Cardiac CT in CHD: added value compared to MRI and Echocardiography Albert de Roos\n     \n  15:15 – 15:30             Coffee Break\n   \n   \n  PART IV.\n   \n  Moderators: Albert deRoos\,\n   \n  15:30 – 16:00             CT for the diagnosis of pulmonary embolism: current approach\n              Istvan Battyany\n   \n  16:00 – 16:30            Myocardial Ischemia –detection and characterization with CT\n              Balázs Ruzsics\n   \n  16:30 – 17:00             Imaging of Atherosclerotic Plaques with Coronary CT Angiography\n              Pál Maurovich-Horvat\n   \n  17:00 – 17:30              Case review with the experts\n              Gautham Reddy\, Balázs Ruzsics\, Albert de Roos\n   \n   \n   \n   \n   \n   \n                   \n  Day 2 – Friday\, September 2\, 2012\n   \n  Basics of Advanced Cardiovascular Imaging\;\n  What the radiologist and cardiologist needs to know?\n   \n  SESSION II \n  CARDIOVASCULAR MAGNETIC RESONANCE IMAGING\n   \n  PART I.\n   \n  Moderators: Arthur Stillman\,\n   \n   8:30 – 9:10             Basic physics of cardiac MRI for the imaging clinician\n                             Balázs Ruzsics\n   \n   9:10 – 9:50                      Current status of cardiac MRI:advantages\,limitations and applications \n                                     Arthur Stillman\n   \n  9:50 – 10:30            Role of  MRI for the diagnosis of congenital heart disease\n              Albert de Roos\n   \n  10:30 – 10:45            Coffee Break\n   \n  PART II.\n   \n  Moderators:\n   \n  10:45 – 11:30              MRI for the diagnosis of acyanotic CHD  \n              Gautham Reddy\n   \n  11:30 – 12:15        The role of MRI for the diagnosis of cyanotic CHD: pre and post surgical evaluation\n              Albert de Roos\n   \n  12:15 – 12:45            CHD: case review with the experts \n              Albert de Roos\, Gautham Reddy\n   \n  12:45 – 13:45              Lunch\n   \n   \n  PART III.\n   \n  Moderators: Hildo Lamb\, Rainer Reinmuller\n   \n  13:45 – 14:15                MRI of the non-Ischemic cardiomyopathies \n              Robert Steiner\n   \n  14:15- 14:45                 MRI of the ischemic cardiomyopathies \n              Albert de Roos\n   \n  14:45 -15.15            MRI for the diagnosis of metabolic syndrome\n              Hildo Lamb\n   \n  15:15 – 15:45               MRI for the diagnosis of valvular pericardial and myocardial disease\n      Gautham Reddy\n   \n  15:45 – 16:15.        Ischemic and nonischemic cardiomyopathy case review with the experts   Gautham Reddy\, Robert M. Steiner\, Hildo Lamb\n   \n  SESSION III\n  NEW HORIZONS IN CARDIOVASCULAR IMAGING\n   \n  Moderators:\n   \n  16:15 - 16:45        Limits of Cardiac CT what can we expect in the future \n                             Thomas Flohr\n             \n  16:45 – 17:15            Diastolic heart function: Basic and Advanced imaging strategies \n              Hildo Lamb\n   \n  17:15 – 17:45        Ultra-high field 7T MRI of the cardiovascular system: Initial clinical experience\n             \n   \n  Day 3 – Saturday\, September 22\, 2012\n   \n  SESSION IV\n  ADVANCED MRI AND CT IMAGING\n   \n  PART I.\n   \n  Moderators: U Josef Schoepf\,\n   \n  8:00 – 8:40         Cardiac CT Leading edge imaging  acquisition and reconstruction strategies   U Joseph Schoepf\n   \n  8:40 – 9.20              MRI and CT of Cardiac Masses\n              Arthur Stillman\n   \n  9:20 – 10:00         First pass myocardial perfusion and myocardial enhancement: what can we do with CT versus MRI\n                             Thomas Flohr\n   \n  10:00 – 10:15            Coffee Break\n   \n   \n  10:15 – 10:45              Common artifacts in cardiac MRI how to optimize scan parameters\n              Balazs Ruzics\n   \n  10:45 – 11:15           Clinical Imaging trials: how to take part and benefit from the trial results  Arthur Stillman\n   \n  11:15 – 12:00            Read with the experts  \n              Arthur Stillman\, Hildo Lamb\, Balázs Ruzsics\,\n   \n  12:00 – 13:00            Lunch           \n   \n  PART II.\n   \n  Moderators: Gautham Reddy\, Rainer Rienmuller\n   \n  13:00 – 13:45            Bracco Invitational Lecture \n              Hans Christoph Becker\n   \n  13:45 – 14:30        Cardiac CT for the preprocedural assessment of cardiac surgery and interventions  \n                             Balazs Ruzics\n   \n  14:30 – 15:00        Aortic and peripheral vascular disease: diagnosis by MRI and CT\n                             Arthur Stillman\n   \n  15:00 – 15:15        Coffee Break\n   \n  15:15 – 15:45        Teaching the future teachers: The goals of training  radiologists and technologists in cardiac MRI and cardiac CT in Central and Eastern Europe  Rainer Reinmuller\n   \n   \n  PART III.\n   \n  15:45 – 17:00        Case presentations from the participants (1 case 6 minutes sum 12 cases)\n                             Controlled by the faculty experts\n                            \n   \n   \n
DTSTAMP:20170621T011656Z
END:VEVENT
END:VCALENDAR
