BEGIN:VCALENDAR
VERSION:2.0
METHOD:PUBLISH
BEGIN:VEVENT
UID:WILD_APRICOT_EVENT_467328_SESSION_1
DTSTART:20120328T173000Z
DTEND:20120328T193000Z
SUMMARY:Soirée / Conseil Scientifique du CFB / Prostate
LOCATION:Centre François Baclesse
DESCRIPTION:http://slr.lu/event-467328\n\nInvitation Urologues\, Oncologues\, Radiologues en partenariat avec la Société Luxembourgeoise d'Oncologie\n \n Cancer localisé de la prostate\, curiethérapie interstitielle lode 125 - expérience luxembourgeoise\n \n      * Indications thérapeutiques - Antoine LURQUIN (CHL)\n\n        * Moyens et méthode - rôle de |'urologue  Robert MULLER (CHEM)\n\n        * Moyens et méthode - rôle du radiothérapeute - Bérangère FREDERICK (CFB)\n\n        *  Apport de l'IRM - Yves LASAR (CHEM)\n\n        * Résultats après 18 mois - Michel UNTEREINER (CFB)\n\n\n Nouveaux traceurs PET  FNa et Fluorocholine en présence d'une récidive biologigue du cancer de la grostate\n \n      * Programme de recherche\, étude clinique franco­luxembourgeoise - Pierre OLIVIER (CHU Nancy Nancyc/otep)\,  PILLOY(CHL)\n\n        * Vers une nouvelle place du PET dans la stratégie thérapeutique?-Michel UNTEREINER (CFB)\n\n\n \n
DTSTAMP:20170621T012132Z
END:VEVENT
END:VCALENDAR
