BEGIN:VCALENDAR
VERSION:2.0
METHOD:PUBLISH
BEGIN:VEVENT
UID:WILD_APRICOT_EVENT_461517_SESSION_1
DTSTART:20120316T230000Z
DTEND:20120317T230000Z
SUMMARY:Symposium Radioprotéction Sénologie
LOCATION:Chalet Robinson – Bois de la Cambre  Sentier de l’embarcadère 1 1000 Bruxelles 02/372 92 92
DESCRIPTION:http://slr.lu/event-461517\n\n               8h30 :\n        Accueil\, café\, croissants\n        9h-9h20 :\n        Théorie et pratique de la dosimétrie en imagerie du sein. Liaison entre la dose et la qualité de l’image en mammographie\n       Hilde Bosmans - KUL\n        9h20-9h40 :\n        Dosimétrie et variation avec le type de support (film\, CR\, DR)\n       Françoise Malchair - ULB\n        9h40-10h :\n        Les effets radiobiologiques de l’irradiation sur l’épithelium mammaire\n       Catherine Colin - Centre Hospitalier Lyon Sud\n        10h-10h20 :\n        Risque de cancer radio- induit chez les femmes de 40-49 ans : position du KCE\n       Françoise Mambourg - KCE\n        10h20-10h30 : discussion\n            *            10h30-11h : pause\n\n         \n\n                  • 11h -11h20 :\n        Screening of women with a high risk of breast cancer: simulations and cost effectiveness Marcel Greuter – Université de Groningen – NL\n        • 11h20-11h40 :\n        Irradiation liée à la Tomosynthèse Bob Martins - Hologic\n        • 11h40-11h50 :\n        Risques de la mammographie et de la scintigraphie pour le personnel soignant Thierry Puttemans – Clinique St Pierre – Ottignies\n        • 11h50-12h :\n        Radioprotection des seins lors d’examens CT du thorax et du cœur\n       Denis Tack - Baudour\n        • 12h-12h30 : discussion et take home messages : comment intégrer les recommandations en radioprotection dans notre pratique quotidienne\n        • 13h : Lunch ( buffet santé)\n                                    Vous ne pouvez accéder au Chalet que par une seule voie :\n       Une fois dans le bois de la Cambre\, prenez l’avenue de Diane (voie à sens unique)\, et maintenez votre droite jusqu’à l’avenue du Panorama. Parquez-vous le long de la berge et marchez jusqu’à l’embarcadère. Prenez un des deux bacs jusqu’à l’île.\n        Attention\, tenez compte du temps nécessaire pour arriver jusqu’à l’île !\n        inscription et participation aux frais :\n        Inscription par mail : club.de.senologie@skynet.be\nVotre inscription sera validée après versement d’une PAF de 50€ sur le compte du club de sénologie\n        n° BE77-1325-3814-6442\n        accréditations :\n        Le symposium sera accrédité en éthique et économie.\n        De plus\, le programme a été agréé par l’AFCN ( Agence Fédérale du Contrôle Nucléaire ) et est pris en compte comme formation continue en radioprotection pour la prolongation des autorisations pe\n         
DTSTAMP:20170621T012155Z
END:VEVENT
END:VCALENDAR
