BEGIN:VCALENDAR
VERSION:2.0
METHOD:PUBLISH
BEGIN:VEVENT
UID:WILD_APRICOT_EVENT_461512_SESSION_1
DTSTART:20120229T230000Z
DTEND:20120305T230000Z
SUMMARY:ECR 2012
LOCATION:Vienne
DESCRIPTION:http://slr.lu/event-461512\n\n                        Registration\n       \n       It's never too late to register for the ECR\, but do it online and you'll save time when you arrive!\n       \n       \n       Travel Service\n       \n       Take the stress out of planning your trip\; let us help you find the right hotel fast! Check\n       out our flight discounts too!\n       \n       \n       Interactive Programme Planner (IPP) /\n       Final Programme Online\n       \n       Plan your whole ECR in advance and export your schedule to your own calendar with the IPP\, or browse through the full range of the programme in the PDF of our beautiful print version!\n       \n       \n       ECR 2012 App / Mobile Guide\n       \n       Not one\, but two hand-held ways to navi-\n       gate the ECR programme\, find your way around the venue\, and much more. Download the app for iPhone or Android and find the Mobile Guide here.\n       \n       \n       \n       \n       \n       Technical Exhibition\n       \n       Visit the ECR 2012 Technical Exhibition\,\n       with around 300 exhibitors in 26\,000 m²\n       of exhibition space.\n       \n       \n       Online Exhibitor Search\n       \n       Search the ECR 2012 Technical Exhibition for exhibitors\, product information and compa-nies' booth numbers.\n       \n       \n       \n       \n       \n       Arts & Culture\n       \n       Make the most of Vienna's stunning range of cultural opportunities\, with our very own Arts & Culture Guide!\n       \n       \n       Weather\n       \n       In Vienna\, you can never be sure whether it will be snow or sunshine in March. Keep an eye on Austria's official weather forecast website.\n       \n       \n       Public Transport\n       \n       Arriving by air? Then plan your journey to the city. Once you're here\, it's easy to find your way around.\n       \n                                            Social Media Wall\n       \n       Facebook and Twitter will take on a new significance at ECR 2012: look out for our\n       social media wall\, and get involved!\n       \n       \n       ECR Party & Rising Stars Party\n       \n       Don't miss out on the fun\; book your tickets\n       for both parties in advance!\n       \n       \n       ECR Photo Competition\n       \n       Give us your best shot – no theme\, no limits\n       – and be part of our ECR photo exhibition!\n       \n       \n       \n       \n       \n       ECR goes to ...\n       \n       Leaving your colleagues at home? No\n       problem! This year the ECR 'goes to' them!\n       Make sure they follow our live web stream of selected sessions!\n       \n       \n       Broadcast Rooms\n       \n       If you've ever turned up to a full session and not got in\, then this is for you! Our broadcast rooms will provide audio and presentation material from major lecture halls.\n       \n       \n       \n       \n       \n       Celebrating 5 years of ESOR – the European School of Radiology.\n       \n       Join the first ESOR course on imaging bio-markers and the ESOR session on broad-\n       ening the concept of radiological education.\n       \n       \n       HAMAM Public Session on multi-modal breast imaging\n       \n       Multi-modal breast imaging on a single\n       clinical workstation. Meet project partners\n       and explore the HAMAM workstation\n       hands-on.\n       \n       \n       EIBIR at ECR 2012\n       \n       EIBIR hosts four sessions at ECR 2012\; on collaborative initiatives in imaging research\,\n       and three projects: EuroAim/EBR\, ENCITE\,\n       and Euro-BioImaging\n       \n       \n       EIBIR Presents IMAGINE\n       \n       Presentations\, workshops\, and walk-in\n       sessions all about the novel technology that shapes radiology.\n       \n       \n       EPOS Discussions\n       \n       Last year's moderated discussions were a big\n       hit. Find out what the hot topics are this time\n       around …\n       \n       \n       Management in Radiology (MIR) at ECR\n       \n       'Radiology in an Age of Austerity – Trends in Communication\, Management and Economy.' The MIR session is an absolute must for those\n       in management …\n       \n       \n       Industry Hands-on Workshops\n       \n       Fully CME-accredited and free of charge for registered ECR attendees. Book online to secure your seat!\n       \n       \n       Continued Medical Education\n       \n       Be prepared! Find out how many credits you can claim\, and how to get CME confirmation\n       at ECR 2012.         
DTSTAMP:20170621T012218Z
END:VEVENT
END:VCALENDAR
