BEGIN:VCALENDAR
VERSION:2.0
METHOD:PUBLISH
BEGIN:VEVENT
UID:WILD_APRICOT_EVENT_436330_SESSION_1
DTSTART:20120606T220000Z
DTEND:20120609T220000Z
SUMMARY:"SOFMIS 2012"
LOCATION:Deauville
DESCRIPTION:http://slr.lu/event-436330\n\n<q>SOFMIS 2012</q>.  Billet dont voici l'aperçu :\n     Journées annuelles de la Société Française de Mastologie et d'Imagerie du Sein\n   7\, 8 et 9 juin 2012\n   Centre International de Deauville (CID) - Deauville \n   \n         \n     \n     Télécharger le programme du Congrès\n     Télécharger le bulletin d'inscription\nTélécharger le formulaire de réservation hôtelière    
DTSTAMP:20170621T011843Z
END:VEVENT
END:VCALENDAR
