BEGIN:VCALENDAR
VERSION:2.0
METHOD:PUBLISH
BEGIN:VEVENT
UID:WILD_APRICOT_EVENT_431055_SESSION_1
DTSTART:20120414T220000Z
DTEND:20120418T220000Z
SUMMARY:The Breast Course™
LOCATION:Lisbon\, Portugal
DESCRIPTION:http://slr.lu/event-431055\n\n   \nThe Breast Course™\n\n                  \n                 CME-accredited\, The Breast Course™ mission is to deliver high-quality accredited education focused on small\, image-detected breast cancer. Aimed at specialists working in breast care\, The Breast Course™ delivers best practices in the areas of diagnostic radiology\, pathology\, image-guided interventions\, surgical techniques\, and radiotherapy and brachytherapy treatments.\n         We have assembled a world-class\, multidisciplinary faculty. Our plan is to deliver a highly interactive\, innovative and interdisciplinary course on breast cancer detection\, intervention\, and therapy. Our preliminary program features more case discussions than previous editions with electronic voting\, an expanded hands-on workshop format and panel discussions of current controversies\n                                  Date:                                                    Sun\, 2012-04-15 (All day) - Wed\, 2012-04-18 (All day)                                                                   Website:                                                    http://www.thebreastpractices.com                                                                   Location:                                                    Lisbon\, Portugal                                                 
DTSTAMP:20170621T012059Z
END:VEVENT
END:VCALENDAR
