BEGIN:VCALENDAR
VERSION:2.0
METHOD:PUBLISH
BEGIN:VEVENT
UID:WILD_APRICOT_EVENT_431054_SESSION_1
DTSTART:20120203T230000Z
DTEND:20120204T230000Z
SUMMARY:Symposium du Groupement belge des spécialites: "l'autonomie du médecin spécialiste et ses limites..."
LOCATION:Bruxelles
DESCRIPTION:http://slr.lu/event-431054\n\nSymposium du Groupement belge des spécialites: "l'autonomie du médecin spécialiste et ses limites..." date: le 4/2/2012 \; lieu:  Bibliothèque royale de Belgique\, Mont des Arts\, BVD de l'Empereur\, 1000 Bruxelles. renseignements: Raf Denayer\, Avenue de la Couronne\,20\, 1050 Bruxelles raf@vbs-gbs.org http://www.vbs-gbs.org
DTSTAMP:20170621T012315Z
END:VEVENT
END:VCALENDAR
