BEGIN:VCALENDAR
VERSION:2.0
METHOD:PUBLISH
BEGIN:VEVENT
UID:WILD_APRICOT_EVENT_431053_SESSION_1
DTSTART:20120209T230000Z
DTEND:20120210T230000Z
SUMMARY:Second international Congress of breast diseases centers
LOCATION:Paris
DESCRIPTION:http://slr.lu/event-431053\n\nSecond international Congress of breast diseases centers\; Paris\, 9 et 10/02/2012. Registration and informations: CFEE executive organization congres@eska.fr
DTSTAMP:20170621T012251Z
END:VEVENT
END:VCALENDAR
