BEGIN:VCALENDAR
VERSION:2.0
METHOD:PUBLISH
BEGIN:VEVENT
UID:WILD_APRICOT_EVENT_431038_SESSION_1
DTSTART:20120628T220000Z
DTEND:20120629T220000Z
SUMMARY:Second colloque francophone sur les cancers du sein in situ
LOCATION:Reims
DESCRIPTION:http://slr.lu/event-431038\n\nSecond colloque francophone sur les cancers du sein in situ Reims\, vendredi 29/06/2012 organisation : B. Cutuli     \n         renseignements: www.reims-evenements.fr     contact:c.collard@reims-<wbr>evenements.fr\n    
DTSTAMP:20170621T011753Z
END:VEVENT
END:VCALENDAR
