BEGIN:VCALENDAR
VERSION:2.0
METHOD:PUBLISH
BEGIN:VEVENT
UID:WILD_APRICOT_EVENT_429262_SESSION_1
DTSTART:20120314T230000Z
DTEND:20120315T230000Z
SUMMARY:ALARA Solutions : « Formation à la RadioProtection des Patients »
LOCATION:Paris
DESCRIPTION:http://slr.lu/event-429262\n\nVos patients sont exposés aux rayonnements ionisants ?\n\n  La majorité des établissements de santé qu'ils soient publics ou privés ont une problématique commune : former les travailleurs selon les modalités de l'arrêté du 18 mai 2004\, qui participent à l'exposition aux rayonnements ionisants des patients afin de leur permettre de réduire et d'optimiser la dose délivrée.\n  Cette obligation règlementaire concerne toutes les personnes susceptibles de délivrer des rayonnements ionisants. La formation est valable dix ans et devait être réalisée avant juin 2009.\n  Cette « Formation à la RadioProtection des Patients » a pour but de vous doter ou de doter les membres concernés de votre équipe (Manipulateurs\, Radiologues\, Chirurgiens\, Dentistes...)\, des principes de base leur permettant de réduire et d'optimiser la dose délivrée aux patients.\n  \n Si vous n'avez pas encore suivi cette formation\, n'attendez plus et inscrivez vous dès maintenant.\n   \n  Vous trouverez en pièces jointes les bulletins d'inscription des formations suivantes\, que nous organisons à Paris:\n      *      Formation à la Radioprotection des Patients pour les Manipulateurs en Électroradiologie Médicale :\n          *          les 19 et 20 janvier 2012\n\n       \n\n            *          les 24 et 25 septembre 2012\n\n       \n\n            *          les 06 et 07 décembre 2012\n         \n         \n\n       \n\n   \n\n        *      Formation à la Radioprotection des Patients pour les Chirurgiens :\n\n          *          le 20 mars 2012\n\n       \n\n            *          le 20 septembre 2012\n         \n         \n\n       \n\n   \n\n        *      Formation à la Radioprotection des Patients pour les Médecins Radiologues :\n\n          *          le 15 mars 2012\n\n       \n\n            *          le 13 novembre 2012\n         \n         \n\n       \n\n   \n\n        *                 *            Formation à la Radioprotection des Patients pour les Dentistes et Chirurgiens Dentistes :\n\n                *                le 29 mars 2012\n\n\n               \n               \n               \n             \n\n\n           Pour plus d'informations ou pour d'autres spécialités\, contactez-nous : par téléphone au 03.69.09.21.35\, par e-mail via commerce@alara-solutions.fr ou sur notre site internet.\n\n           En application des articles L.1333-11 et R. 1333-74 du Code de la Santé Publique\, "Les professionnels pratiquant des actes de radiodiagnostic\, de radiothérapie ou de médecine nucléaire à des fins de diagnostic\, […] exposant les personnes à des rayonnements ionisants\, et les professionnels participant à la réalisation de ces actes et à la maintenance et au contrôle de qualité des dispositifs médicaux doivent bénéficier\, d'une formation théorique et pratique\, relative à la protection des personnes exposées à des fins médicales". La formation à la radioprotection du patient doit être renouvelée périodiquement et en tout état de cause\, au moins tous les dix ans.\n           \n           L'arrêté du 18 mai 2004 détermine les objectifs\, la durée et le contenu des programmes de formation des professionnels de santé à la radioprotection des patients\, prévue à l'article L. 1333-11.\n           \n           ALARA Solutions est enregistrée sous le numéro 42 67 03878 67. Cet enregistrement ne vaut pas agrément de l'Etat.\n         \n\n        \n\n
DTSTAMP:20170621T012207Z
END:VEVENT
END:VCALENDAR
