BEGIN:VCALENDAR
VERSION:2.0
METHOD:PUBLISH
BEGIN:VEVENT
UID:WILD_APRICOT_EVENT_423125_SESSION_1
DTSTART:20120110T173000Z
DTEND:20120110T173000Z
SUMMARY:Assemblée Générale Extraordinaire
LOCATION:Domus Medica\, 29 rue de Vianden\, Luxembourg
DESCRIPTION:http://slr.lu/event-423125\n\nLa prochaine Assemblée Générale Extraordinaire de la SLR se tiendra le mardi 10 janvier 2012 à 18h30 au Domus Medica\, 29 rue de Vianden\, Luxembourg.\n \n L'ordre du jour comporte:\n      * Roadmap "Sein" 2012-2015: entrave à l’exercice libéral de la médecine ?\n\n        * Feedback SLGO & AMMD\n\n        * Communication SLR interne/externe\n\n  Voir Roadmap "Sein" 2012-2015\n
DTSTAMP:20170621T012337Z
END:VEVENT
END:VCALENDAR
