BEGIN:VCALENDAR
VERSION:2.0
METHOD:PUBLISH
BEGIN:VEVENT
UID:WILD_APRICOT_EVENT_421191_SESSION_1
DTSTART:20120426T220000Z
DTEND:20120429T220000Z
SUMMARY:Internationaler Fortbildungskurs Moderne Mammadiagnostik und -therapie
LOCATION:Erlangen
DESCRIPTION:http://slr.lu/event-421191\n\nInternationaler Fortbildungskurs Moderne Mammadiagnostik und -therapie\n Standards\, Trends\, Perspektiven\n \n Liebe Kolleginnen und Kollegen\,\n \n der Erlanger Fortbildungskurs zielt auf die moderne Diagnostik und Therapie von Brusterkrankungen. Im Zentrum steht der senologische Gedanke von Ganzheitlichkeit und Interdisziplinarität.\n \n Auch beim 17. Kurs wollen wir in Theorie und Praxis wieder Bewährtes bewahren und Neues präsentieren. Namhafte nationale und internationale Experten präsentieren in Übersichtsvorträgen die aktuellen Standards\, Trends und Perspektiven der Fachbereiche. Für Diskussionen ist ausreichend Zeit eingeplant. Am Samstag- und Sonntagnachmittag finden wieder die praktischen Übungen an 13 Stationen mit insgesamt 14 Zeitstunden statt...\n \n Erlangen 2012\n
DTSTAMP:20170621T012034Z
END:VEVENT
END:VCALENDAR
