BEGIN:VCALENDAR
VERSION:2.0
METHOD:PUBLISH
BEGIN:VEVENT
UID:WILD_APRICOT_EVENT_421190_SESSION_1
DTSTART:20120216T230000Z
DTEND:20120217T230000Z
SUMMARY:Workshop Sénologie interventionnelle
LOCATION:Abbaye de la Ramée\, Jodoigne\, Belgique
DESCRIPTION:http://slr.lu/event-421190\n\nDescription du cours\n \n      * L’opportunité de discuter et d’examiner différentes méthodes d’éffectuer une biopsie assistée sous vide\n\n        * Des échanges interactifs avec des médecins experts en biopsie et en techniques de marquage\n\n        * La possibilité d’observer une nouvelle technologie pour pratiquer une biopsie du sein de façon performante\n\nBARD wordshop\n
DTSTAMP:20170621T012229Z
END:VEVENT
END:VCALENDAR
