BEGIN:VCALENDAR
VERSION:2.0
METHOD:PUBLISH
BEGIN:VEVENT
UID:WILD_APRICOT_EVENT_421189_SESSION_1
DTSTART:20120713T220000Z
DTEND:20120714T220000Z
SUMMARY:MTRA-Trainingskurs Mammographie
LOCATION:Erlangen
DESCRIPTION:http://slr.lu/event-421189\n\nMTRA-Trainingskurs Mammographie\n 14. Juli 2012\, Erlangen\n Radiologisches Institut\, Gynäkologische Radiologie\n Wissenschaftliche Leitung: Prof. Dr. med. R. Schulz-Wendtland\n \n Programm Anmeldung MTRA\n
DTSTAMP:20170621T011730Z
END:VEVENT
END:VCALENDAR
