BEGIN:VCALENDAR
VERSION:2.0
METHOD:PUBLISH
BEGIN:VEVENT
UID:WILD_APRICOT_EVENT_414707_SESSION_1
DTSTART:20120402T220000Z
DTEND:20120403T220000Z
SUMMARY:Actualité en radiologie digestive.
LOCATION:Salle de conférence  du centre Alexis Vautrin\, Nancy
DESCRIPTION:http://slr.lu/event-414707\n\nActualité en radiologie digestive. Pr Laurent\n \n Les soirées de l’AFPR auront lieu cette année les mardis soirs\, dans la salle de conférence\, du centre Alexis Vautrin.\n \n Je vous recommande vivement d’aller sur le site radiologie-brabois.com. Vous y trouverez les superbes cours de scanner digestif\, des journées de Brabois (anatomie du péritoine\, hernies internes\, …)\, des cas cliniques et bien d’autres informations …\n \n ASSOCIATION POUR LA FORMATION PERMANENTE EN RADIOLOGIE\n \n Sous l’égide de la Société Française de Radiologie\n N° de Déclaration d’Activité : 41 54 02571 54\n N° de Siret : 49461472000014\n \n La cotisation annuelle 2011-2012 pour la participation à ces soirées d’enseignement est de 300 € pour les médecins installés\, 200 € pour les Praticiens Hospitaliers et 20 € pour les internes et chefs de clinique.\n \n Merci d’adresser votre cotisation au Docteur Philippe Caquelin\, Trésorier de l’AFPR\, 44 bd de Scarpone Nancy 54000. Un reçu vous sera adressé en retour.\n \n Une cotisation complémentaire de 50 € (20 € pour les internes et les chefs de clinique) est demandée pour le WE en Alsace.\n \n afpr.radiologue@gmail.com\n
DTSTAMP:20170621T012109Z
END:VEVENT
END:VCALENDAR
