BEGIN:VCALENDAR
VERSION:2.0
METHOD:PUBLISH
BEGIN:VEVENT
UID:WILD_APRICOT_EVENT_414696_SESSION_1
DTSTART:20111205T230000Z
DTEND:20111206T230000Z
SUMMARY:Exploration thoracique (hors pathologie cardiaque) en urgence.
LOCATION:Salle de conférence  du centre Alexis Vautrin\, Nancy
DESCRIPTION:http://slr.lu/event-414696\n\nExploration thoracique (hors pathologie cardiaque) en urgence.\n Dr Hennequin\, Dr Tessier.\n \n Les soirées de l’AFPR auront lieu cette année les mardis soirs\, dans la salle de conférence\, du centre Alexis Vautrin.\n \n Je vous recommande vivement d’aller sur le site radiologie-brabois.com. Vous y trouverez les superbes cours de scanner digestif\, des journées de Brabois (anatomie du péritoine\, hernies internes\, …)\, des cas cliniques et bien d’autres informations …\n \n ASSOCIATION POUR LA FORMATION PERMANENTE EN RADIOLOGIE\n \n Sous l’égide de la Société Française de Radiologie\n N° de Déclaration d’Activité : 41 54 02571 54\n N° de Siret : 49461472000014\n
DTSTAMP:20170621T012412Z
END:VEVENT
END:VCALENDAR
