BEGIN:VCALENDAR
VERSION:2.0
METHOD:PUBLISH
BEGIN:VEVENT
UID:WILD_APRICOT_EVENT_343333_SESSION_1
DTSTART:20111207T230000Z
DTEND:20111209T230000Z
SUMMARY:ESR Annual Leadership Meeting 2011
LOCATION:Budapest
DESCRIPTION:http://slr.lu/event-343333\n\n    It is our pleasure to announce to the Société Luxembourgeoise de Radiologiethe time schedule of this year's ESR Annual Leadership Meeting:      \n      > ESR Annual Leadership Meeting 2011      > Friday\, December 9\, 2011      > 09.00-16.00      \n       Kindly note that a dinner will be organised the evening before the Annual Leadership Meeting in Budapest\, i.e. on Thursday\, December 8.      \n      Official invitations for the participants will be provided in due course.      \n      A delegation of up to 3 representatives per institutional member society\, preferably the president and two other executive committee members\, are cordially invited to attend this meeting.       \n 
DTSTAMP:20170621T012401Z
END:VEVENT
END:VCALENDAR
