BEGIN:VCALENDAR
VERSION:2.0
METHOD:PUBLISH
BEGIN:VEVENT
UID:WILD_APRICOT_EVENT_343331_SESSION_1
DTSTART:20110928T220000Z
DTEND:20110930T220000Z
SUMMARY:MIR 2011 Nice
LOCATION:Nice\, France
DESCRIPTION:http://slr.lu/event-343331\n\n   Welcome to the Annual Scientific Meeting of MIR (Management in Radiology). MIR is a subcommittee of the European Society of Radiology (ESR) \, focused on all aspects of management \, which help to “Make Imaging Relevant” in today´s healthcare environment.      \n      The conference will take place in the wonderful city of Nice (France) and will last two       full days from Thursday\, September 29th to Friday September 30th 2011.      \n      MIR_2011_Nice_FinalProgramme.pdf\n 
DTSTAMP:20170621T012447Z
END:VEVENT
END:VCALENDAR
