BEGIN:VCALENDAR
VERSION:2.0
METHOD:PUBLISH
BEGIN:VEVENT
UID:WILD_APRICOT_EVENT_343330_SESSION_1
DTSTART:20110713T220000Z
DTEND:20110716T220000Z
SUMMARY:DICOM 2011
LOCATION:Mainz
DESCRIPTION:http://slr.lu/event-343330\n\n   Sehr geehrte Damen und Herren\,      \n      die gemeinsame Veranstaltung der KIS-RIS-PACS-Tagung       und des DICOM-Treffens in der besonderen Umgebung des       Tagungsortes von Schloß Waldthausen ist inzwischen sicherlich       die deutschsprachige Veranstaltung für Themen rund um das       Bilddatenmanagement.       \n      Interessante Vorträge\, engagierte Diskussionen und eine       attraktive Tagungsatmosphäre kennzeichnen die Veranstaltung\,       die dieses Jahr wieder ein deutlich gestiegenes Interesse bei       Vortragenden und Herstellern aufweisen kann.       In den Vorträgen werden u.a. die aktuellen Entwicklungen von       PACS und RIS\, der Interoperabilität\, der Telemedizin aber auch       der Regulation von IT aufgegriffen.       \n      Dieses Jahr wird das Treffen erneut in Kooperation mit dem       Symposium „PACS und mehr!“ stattfinden.       Wir hoffen\, dieses Treffen findet auch Ihr Interesse und würden       uns sehr freuen\, Sie in Mainz begrüßen zu dürfen.       \n      C. Düber M. Eichelberg M.  Engelhorn      E. Kotter K. J. Klose K. Marquardt      P. Mildenberger T. Tolxdorff G. Weisser      \n      14_mainz_dicom.pdf\n 
DTSTAMP:20170621T012510Z
END:VEVENT
END:VCALENDAR
