BEGIN:VCALENDAR
VERSION:2.0
METHOD:PUBLISH
BEGIN:VEVENT
UID:WILD_APRICOT_EVENT_325005_SESSION_1
DTSTART:20110622T220000Z
DTEND:20110625T220000Z
SUMMARY:Congrès National d'Imagerie de la femme
LOCATION:Montpellier\, France
DESCRIPTION:http://slr.lu/event-325005\n\n\n \n La Société Française de Mastologie et d'Imagerie Mammaire (SOFMIS) et la Société d'Imagerie Génito-Urinaire (SIGU) organisent de façon conjointe\, et sous l'égide de la Société Française de Radiologie (SFR)\, le Congrès National d'Imagerie de la femme du 23 au 25 juin 2011 au Palais des Congrès Le Corum\, au cœur même de Montpellier. \n Cette manifestation a pour thème : "De l'innovation à la pratique\, impact des nouvelles techniques sur les stratégies en imagerie pelvienne et mammaire ?" \n Durant ces journées\, nous tenterons de répondre à cette question de façon argumentée mais également de façon pratique en proposant près de cinq heures d'ateliers ciblés\, interactifs et en plus petits groupes. \n Attention le nombre de places aux ateliers est limité ! Inscrivez-vous dès maintenant. \n Le programme définitif est d’ores et déjà disponible sur le site  www.imageriemontpellier2011.<wbr>com
DTSTAMP:20170621T012547Z
END:VEVENT
END:VCALENDAR
