BEGIN:VCALENDAR
VERSION:2.0
METHOD:PUBLISH
BEGIN:VEVENT
UID:WILD_APRICOT_EVENT_324998_SESSION_1
DTSTART:20110706T220000Z
DTEND:20110709T220000Z
SUMMARY:6th International Symposium on State-of-the-Art Imaging
LOCATION:Bordeaux\, France
DESCRIPTION:http://slr.lu/event-324998\n\n \n The symposium will start on Thursday\, July 7\, 2011 and is open to all radiologists with a particular interest in State-of-the-Art Imaging and is designed to provide vital clinical protocols and techniques that will enhance the radiologist’s clinical decision making and ability to perform high-quality studies on challenging patients. \n Besides the Scientific Programme\, a Welcome Reception on Wednesday\, July 6\, 2011 will offer a chance to meet colleagues and make new friends. Early registration is offered until May 31\, 2011.  Residents until the age of 35 years are being offered specially reduced registration fees. \n For further details on the programme\, hotel accommodation as well as the iSi 2011 online registration\, kindly visit the website at:  http://www.isi2011.com/\n
DTSTAMP:20170621T012536Z
END:VEVENT
END:VCALENDAR
