BEGIN:VCALENDAR
VERSION:2.0
METHOD:PUBLISH
BEGIN:VEVENT
UID:WILD_APRICOT_EVENT_311691_SESSION_1
DTSTART:20110506T220000Z
DTEND:20110507T220000Z
SUMMARY:Journée de radiopédiatrie
LOCATION:Auditoire clinique Roi Baudouin C (entrée F)  Avenue Mounier 55 1200 Bruxelles
DESCRIPTION:http://slr.lu/event-311691\n\n\nJournée de radio-pédiatrie pratique\n Economie de moyens\, économie de doses de radiations ionisantes\, économie financière en imagerie des urgences de l'enfant ?\n \n En imagerie médicale\, la pédiatrie occupe une place un peu à part et de nombreux radiologues "généraux" ne sont pas toujours à l'aise avec cette discipline. Les spécificités sont nombreuses: patient peu collaborant\, stress des parents\, du clinicien\, pathologies spécifiques\, organisme en croissance\, sensibilité particulière aux radiations ionisantes ... Ces difficultés sont encore exacerbées lorsque l'enfant se présente en salle d'urgences.\n \n Nous vous proposons donc une journée dédiée à l'imagerie des urgences pédiatriques sous forme d'exposés pratiques et interactifs qui aborderont des dossiers vécus\, secteur par secteur.\n \n http://rxped2011.congres-medecine.com/\n \n
DTSTAMP:20170621T012633Z
END:VEVENT
END:VCALENDAR
