BEGIN:VCALENDAR
VERSION:2.0
METHOD:PUBLISH
BEGIN:VEVENT
UID:WILD_APRICOT_EVENT_303829_SESSION_1
DTSTART:20110527T220000Z
DTEND:20110529T220000Z
SUMMARY:Week-End détente dans les Vosges / ASSOCIATION POUR LA FORMATION PERMANENTE EN RADIOLOGIE
LOCATION:Hermitage du Frère Joseph
DESCRIPTION:http://slr.lu/event-303829\n\nWeek-End détente dans les Vosges les 28 – 29 mai 2011 à l’Hermitage du Frère Joseph:\n \n -          Samedi 28 mai après midi : arrivée des participants (par leurs propres moyens) \;\n \n -          Soirée : accidents vasculaires cérébraux\, bilan scanner et IRM\, conduite à tenir\, organisée par le Pr René Anxionnat \;\n \n -          Repas et nuit \;\n \n -          journée du 29 mai : découvrir les sentiers des Vosges avec le Pr René Anxionnat \;\n \n -          retour à partir de 16 heures.\n \n L’inscription à ce WE est obligatoire  avec un supplément de cotisation de 50 euros. Ce supplément est limité à 20 euros pour les accompagnants\, les internes et chefs de clinique. Il devra être réglé en même temps que la cotisation.\n \n programme 2010 - 2011(2).doc\n
DTSTAMP:20170621T012559Z
END:VEVENT
END:VCALENDAR
