BEGIN:VCALENDAR
VERSION:2.0
METHOD:PUBLISH
BEGIN:VEVENT
UID:WILD_APRICOT_EVENT_303827_SESSION_1
DTSTART:20110420T220000Z
DTEND:20110421T220000Z
SUMMARY:ASSOCIATION POUR LA FORMATION PERMANENTE EN RADIOLOGIE  Sous l’égide de la Société Française de Radiologie
LOCATION:Hôtel de la Reine place Stanislas
DESCRIPTION:http://slr.lu/event-303827\n\nCe que l'ORL attend de l'imagerie en pathologie rhinosinusienne. Pr Roger Jankowsky\, Dr Claude Hodez et Dr Philippe Henrot.\n \n Début de la réunion à 20 heures. Repas après la conférence à 21h20.\n \n Une inscription spécifique à cette séance\, sur l’adresse email de l’AFPR\, est indispensable pour prévoir les repas. Le nombre d’inscrits est également limité à 30 participants :\n \n afpr.radiologue@gmail.com\n programme 2010 - 2011(2).doc\n
DTSTAMP:20170621T012724Z
END:VEVENT
END:VCALENDAR
