BEGIN:VCALENDAR
VERSION:2.0
METHOD:PUBLISH
BEGIN:VEVENT
UID:WILD_APRICOT_EVENT_303805_SESSION_1
DTSTART:20110516T220000Z
DTEND:20110519T220000Z
SUMMARY:HIT 2011 Paris
LOCATION:Paris
DESCRIPTION:http://slr.lu/event-303805\n\n\n\n L'enjeu 2011 : Systèmes d'Information de Santé et coopérations\n Le programme du Congrès de cette 5ème édition sera élaboré en coordination avec le Comité Scientifique présidé cette année par Mr Philippe Roussel\, Directeur du CH du Mans\, et sous l'égide du Comité de Pilotage avec la participation d'établissements répondants à l'Appel à communications.\n \n \n Les thématiques 2011 :\n \n 2 jours ½ de formation sous formes de sessions plénières et d'ateliers pratiques sur des sujets transversaux :\n\n     * Transformation et performance des organisations de soins\n\n     * Nouvelles pratiques professionnelles\n\n     * L'hôpital numérique\n\n     * Communication et partage\, coordination\n\n     * Télémédecine\n\n
DTSTAMP:20170621T012622Z
END:VEVENT
END:VCALENDAR
