BEGIN:VCALENDAR
VERSION:2.0
METHOD:PUBLISH
BEGIN:VEVENT
UID:WILD_APRICOT_EVENT_303800_SESSION_1
DTSTART:20110505T220000Z
DTEND:20110507T220000Z
SUMMARY:23ème Cours CEPUR d’imagerie du Pont d’Oye
LOCATION:Château du Pont d’Oye\, 6720 Habay-la- Neuve\, Belgique. Tél: 063 42 01 30
DESCRIPTION:http://slr.lu/event-303800\n\nImagerie dans les douleurs rachidiennes: quand et comment ?\n Organisation: M.Lemort\, S.Louryan\, D.Balériaux\, J.Dechenne\n \n Programme\n \n Vendredi 6/05/2011\n 09 :30 Introduction: S.Louryan\, M.Lemort\n \n Le possible\n 09 :45 Que peut-on décrire en imagerie rachi- dienne: le point de vue du radio-anatomiste: Sté- phane Louryan 10:15 Etude statique et dynamique de la mécanique rachidienne: state of the art: Pierre-Michel Dugailly\n \n Le nécessaire\n 10:45    Epidémiologie et poids économique des affections rachidiennes: Michel Roland 11:15 A-t-on besoin d’une imagerie rachidienne: le point de vue du clinicien: Agnieszka Gierasimo- wicz-Fontana\n 11:45 Que peut-on encore attendre d’une radiogra- phie conventionnelle du rachis?: Luisa Divano 12:00 Mise au point radiologique de l’ostéoporose: données actuelles et nouveautés de la nomenclature Marc Lemort\n 12:30 Déjeuner au Château\n \n La pratique\n 14 :00 Choix raisonné de la technique d’imagerie dans les algies du rachis:    Luisa Divano 14:15 Rachis lombo-sacré douloureux du sujet âgé Ph.David\, Th.Roger\,M.Pezullo\n 14:35 Douleurs rachidiennes et lésions intracana- laires: Danielle Balériaux 15:05 Imagerie du rachis dans les syndromes dou- loureux aigus: Luisa Divano\, Chiara Mabiglia 15:35 pause café\n 16:10 Expérience d’un groupe multidisciplinaire de prise en charge des problèmes rachidiens complexes Alphonse Lubansu 16 :40 Workshop : revue interactive de cas intéres- sants de mises au point rachidiennes (D.Balériaux\, A.Lubansu\, L.Divano\, J.Dechenne\, P.David\, J.Alexiou)\n 18 :00 : ajournement 19 :30 : Apéritif et dîner au Château\n \n Samedi 7/05/2011\n \n La pratique\n 08: 30 Dosimétrie des examens TDM rachi- diens et optimisation: Pascale Bohy 09:00 Réussir une IRM du rachis: Thierry Metens\n \n Le nécessaire\n 09:30 Qu’attendre de l’imagerie rachidienne: le point de vue du chirurgien: Laurent Fabeck 10:00: L’enfant ou l’adolescent qui a mal au dos: une indication d’imagerie ?: Catherine Christophe\n 10:30 Pause café\n \n La pratique\n 11:00 Douleur rachidienne chez le patient can- céreux: imagerie et implications cliniques: Jean Alexiou 11:30 Imagerie du rachis et expertise: Jean Alexiou\n 12:00: Conclusion\n 12 :30 Déjeuner au Château\n Accréditation demandée en rubrique «Ethique et économie»\n\n Fiche d'inscription\n
DTSTAMP:20170621T012644Z
END:VEVENT
END:VCALENDAR
