BEGIN:VCALENDAR
VERSION:2.0
METHOD:PUBLISH
BEGIN:VEVENT
UID:WILD_APRICOT_EVENT_303797_SESSION_1
DTSTART:20111126T230000Z
DTEND:20111202T230000Z
SUMMARY:RSNA 2011
LOCATION:Chicago
DESCRIPTION:http://slr.lu/event-303797\n\nGeneral Meeting Information\n 97th Scientific Assembly and Annual Meeting\n November 27 - December 2\, 2011\n McCormick Place Convention Center\n 2301 S. Lake Shore Drive\n Chicago\, Illinois 60616 USA\n Website: http://www.mccormickplace.com/\n \n    Be sure to appropriately document your attendance at education activities before the end of 2011 to receive a RSNA 2011 Record of Attendance. For members\, these records will be transferred to the CME repository by the end of January 2012.\n     Registration and Housing: Important Dates & Deadlines    May 4 RSNA/AAPM member registration and housing opens at 8:30 a.m. CT   June 1 General registration and housing opens at 8:30 a.m. CT   July 6 Course enrollment opens at 8:30 a.m. CT   November 4 Final discounted advance registration\, housing and course enrollment deadline to have full conference materials mailed in advance    \n Register by November 4 to receive the discounted registration fee and full conference materials mailed to you in advance. International visitors must register by October 21 to receive these materials in advance. Registrations received after November 4 will be processed at the increased fee and conference materials must be obtained at the McCormick Place Convention Center.\n    Before 11/4 After 11/4   $0 $100 RSNA/AAPM Member   $0 $0 RSNA/ AAPM Member Presenter   $0 $0 RSNA Member-in-Training\, RSNA Student Member and Non-Member Student   $0 $0 Non-Member Presenter   $165 $265 Non-Member Resident/Trainee   $165 $265 Radiology Support Personnel   $750 $850 Non-Member Radiologist\, Physicist or Physician   $750 $850 Hospital or Facility Executive\, Commercial Research and Development Personnel\, Healthcare Consultant and Industry Personnel   $300 $300 One-day registration to view only the Technical Exhibits      \n
DTSTAMP:20170621T012423Z
END:VEVENT
END:VCALENDAR
