BEGIN:VCALENDAR
VERSION:2.0
METHOD:PUBLISH
BEGIN:VEVENT
UID:WILD_APRICOT_EVENT_275443_SESSION_1
DTSTART:20110503T220000Z
DTEND:20110507T220000Z
SUMMARY:Advanced MRI 2011
LOCATION:Graz\, Austria
DESCRIPTION:http://slr.lu/event-275443\n\nThe meeting “Advanced MRI 2011“ takes place from May 4-7\, 2011 in Graz\, Austria.\n \n This course brings together a faculty of experienced lecturers noted for their expertise in central nervous system\, musculoskeletal\, head and neck\, and body imaging. The intensive four day course of instruction focuses on current clinical applications and incorporates the latest technical advances.\n \n www.diagnostikzentrum.com
DTSTAMP:20170621T012712Z
END:VEVENT
END:VCALENDAR
